BEGIN:VCALENDAR
METHOD:PUBLISH
VERSION:2.0
CALSCALE:GREGORIAN
PRODID:-//NONSGML WPForms//NONSGML Sugar Calendar Feeds v3.11.0//EN
X-WR-CALNAME:Lilsimsie and Congressman Maxwell Frost Twitch Stream on th
 e EA Buyout!
X-WR-CALDESC:Players Alliance
X-WR-TIMEZONE:America/New_York
BEGIN:VTIMEZONE
TZID:America/New_York
BEGIN:STANDARD
TZOFFSETFROM:-0400
TZOFFSETTO:-0500
DTSTART:20251102T060000
TZNAME:EST
END:STANDARD
BEGIN:DAYLIGHT
TZOFFSETFROM:-0500
TZOFFSETTO:-0400
DTSTART:20260308T070000
TZNAME:EDT
END:DAYLIGHT
END:VTIMEZONE
BEGIN:VTIMEZONE
TZID:America/New_York
BEGIN:STANDARD
TZOFFSETFROM:-0400
TZOFFSETTO:-0500
DTSTART:20251102T060000
TZNAME:EST
END:STANDARD
BEGIN:DAYLIGHT
TZOFFSETFROM:-0500
TZOFFSETTO:-0400
DTSTART:20260308T070000
TZNAME:EDT
END:DAYLIGHT
END:VTIMEZONE
BEGIN:VEVENT
SUMMARY:Lilsimsie and Congressman Maxwell Frost Twitch Stream on the EA 
 Buyout!
DESCRIPTION:We're excited to announce that Players Alliance will be havi
 ng Congressman Maxwell Frost and Lilsimsie\, a HUGE Sims content creator
 \, going live on Twitch together on Wednesday\, April 15\, 2026 10:00 AM
  ET Emceed by the one and only\, Zefrine!\n\n&nbsp\;\n\nWe'll be playing
  Stardew Valley while breaking down the $55 billion private equity buyou
 t of EA and what gamers can actually do to stop it!\n\n&nbsp\;\n\nCome w
 atch and come learn at twitch.tv/lilsimsie.
URL;VALUE=URI:https://playersalliancehq.org/events/lilsimsie-and-congres
 sman-maxwell-frost-twitch-stream-on-the-ea-buyout/
UID:urn:uuid:114c0e25-cb1a-438e-aeb4-e696217f08ed
STATUS:CONFIRMED
ORGANIZER:
DTSTAMP:20260419T210039Z
DTSTART;TZID=America/New_York:20260415T100000
DTEND;TZID=America/New_York:20260415T110000
END:VEVENT
END:VCALENDAR